BEGIN:VCALENDAR
VERSION:2.0
PRODID:-//BudsOnTheMove - ECPv6.15.17.1//NONSGML v1.0//EN
CALSCALE:GREGORIAN
METHOD:PUBLISH
X-ORIGINAL-URL:https://budsonthemove.com
X-WR-CALDESC:Events for BudsOnTheMove
REFRESH-INTERVAL;VALUE=DURATION:PT1H
X-Robots-Tag:noindex
X-PUBLISHED-TTL:PT1H
BEGIN:VTIMEZONE
TZID:America/New_York
BEGIN:DAYLIGHT
TZOFFSETFROM:-0500
TZOFFSETTO:-0400
TZNAME:EDT
DTSTART:20250309T070000
END:DAYLIGHT
BEGIN:STANDARD
TZOFFSETFROM:-0400
TZOFFSETTO:-0500
TZNAME:EST
DTSTART:20251102T060000
END:STANDARD
BEGIN:DAYLIGHT
TZOFFSETFROM:-0500
TZOFFSETTO:-0400
TZNAME:EDT
DTSTART:20260308T070000
END:DAYLIGHT
BEGIN:STANDARD
TZOFFSETFROM:-0400
TZOFFSETTO:-0500
TZNAME:EST
DTSTART:20261101T060000
END:STANDARD
BEGIN:DAYLIGHT
TZOFFSETFROM:-0500
TZOFFSETTO:-0400
TZNAME:EDT
DTSTART:20270314T070000
END:DAYLIGHT
BEGIN:STANDARD
TZOFFSETFROM:-0400
TZOFFSETTO:-0500
TZNAME:EST
DTSTART:20271107T060000
END:STANDARD
END:VTIMEZONE
BEGIN:VEVENT
DTSTART;TZID=America/New_York:20260411T140000
DTEND;TZID=America/New_York:20260411T160000
DTSTAMP:20260419T104402
CREATED:20260326T010900Z
LAST-MODIFIED:20260330T120806Z
UID:945-1775916000-1775923200@budsonthemove.com
SUMMARY:Central Park Reservoir Walk
DESCRIPTION:Register on LUMA\n \nA splendid Saturday afternoon calls for a Central Park classic 🌿 \n​Join the buds at The Emerald (UES) before we head into the park for a smooth loop around the Reservoir. Think skyline views\, fresh air\, and easy\, elevated conversation. \n​A relaxed longer stroll 2.5-3 mile stroll\, perfect for slowing down\, connecting\, and soaking in the city at its finest. Come solo or bring a bud. Either way\, you’re in good company ✨ \n​Walk Route: https://www.alltrails.com/explore/map/map-march-24-2026-fbcb548?u=i&sh=s0kvcl \n​Walker Deals \n​• The Emerald – event-day love for walkers \n​The BOTM Flow \n​2:00 PM — Meet + Mingle at The Emerald\nCheck in\, warm up\, and settle into the vibes \n​2:30 PM — Central Park Walk \n​Slow strolls\, take in early glimpses of spring in the parks\, enjoy company of other buds \n​4 PM — Chill + Shop back at The Emerald\nWind down\, connect\, and thaw out together at The Emerald \n​​What to Bring \n\nWarm layers\nComfy walking shoes\nWater\nAn open mind for spring magic\n\n​​Level \n​​Easy | 3 miles | 90 mins \n​​Questions? \n​​DM us anytime on Instagram @budsonthemove_ \n​​Disclaimer \n​​💚 Buds on the Move is a community walking club for adults 21+. This is a pay-as-you-wish experience that helps support future community programming. Consumption is always optional\, respectful\, and mindful.
URL:https://budsonthemove.com/event/central-park-reservoir-walk/
LOCATION:The Emerald – UES\, 1190 Lexington Ave\, New York\, NY\, 10028\, United States
ATTACH;FMTTYPE=image/png:https://budsonthemove.com/wp-content/uploads/2026/03/BUDS_WALKS_H1_2026_19_16x9.png
ORGANIZER;CN="Buds On The Move":MAILTO:budsonthemove0@gmail.com
END:VEVENT
END:VCALENDAR