BEGIN:VCALENDAR
VERSION:2.0
PRODID:-//BudsOnTheMove - ECPv6.15.17.1//NONSGML v1.0//EN
CALSCALE:GREGORIAN
METHOD:PUBLISH
X-ORIGINAL-URL:https://budsonthemove.com
X-WR-CALDESC:Events for BudsOnTheMove
REFRESH-INTERVAL;VALUE=DURATION:PT1H
X-Robots-Tag:noindex
X-PUBLISHED-TTL:PT1H
BEGIN:VTIMEZONE
TZID:America/New_York
BEGIN:DAYLIGHT
TZOFFSETFROM:-0500
TZOFFSETTO:-0400
TZNAME:EDT
DTSTART:20250309T070000
END:DAYLIGHT
BEGIN:STANDARD
TZOFFSETFROM:-0400
TZOFFSETTO:-0500
TZNAME:EST
DTSTART:20251102T060000
END:STANDARD
BEGIN:DAYLIGHT
TZOFFSETFROM:-0500
TZOFFSETTO:-0400
TZNAME:EDT
DTSTART:20260308T070000
END:DAYLIGHT
BEGIN:STANDARD
TZOFFSETFROM:-0400
TZOFFSETTO:-0500
TZNAME:EST
DTSTART:20261101T060000
END:STANDARD
BEGIN:DAYLIGHT
TZOFFSETFROM:-0500
TZOFFSETTO:-0400
TZNAME:EDT
DTSTART:20270314T070000
END:DAYLIGHT
BEGIN:STANDARD
TZOFFSETFROM:-0400
TZOFFSETTO:-0500
TZNAME:EST
DTSTART:20271107T060000
END:STANDARD
END:VTIMEZONE
BEGIN:VEVENT
DTSTART;TZID=America/New_York:20260417T183000
DTEND;TZID=America/New_York:20260417T200000
DTSTAMP:20260419T104319
CREATED:20260322T111039Z
LAST-MODIFIED:20260330T124840Z
UID:857-1776450600-1776456000@budsonthemove.com
SUMMARY:Brooklyn Promenade Sunset Walk
DESCRIPTION:Register on LUMA\n \n​We couldn’t be more ecstatic about longer days and warmer air\, it’s finally promenade season 🌅 \n​Join us for a beautiful route through Brooklyn Heights and along the waterfront\, where skyline views and golden hour light do all the heavy lifting. \n​During this walk last month\, so many oooos were shared as we stepped into our first real sunset since winter and trust us\, it hit different. \n​We’ll meet at Kaya Bliss before heading out to unwind\, elevate\, and soak in that soft\, glowing city magic together ✨ \n​Walk Route: https://www.alltrails.com/explore/custom-routes/map-october-26-2025-1f5c6e2?u=i&sh=s0kvcl \n​Walker Deals \n​TBD \n​The BOTM Flow\n​6:30 PM — Meet + Mingle at Kaya Bliss\nCheck in with walk guides\, connect with fellow buds\, and get fueled for the stroll \n​7:00 PM — Promenade Walk\nEasy\, scenic walk with pauses to take it all in \n​8:00–8:30 PM — Chill + Shop\nWind down\, reflect\, and enjoy post-walk vibes \n​​What to Bring \n\n​Layers (Winter chill is still amongst us)\nComfy walking shoes\n​Water\nA curious\, open mind\n\n​​Level \n​​Easy | 1.5 miles | 60 mins \n​​Questions? \n​​DM us anytime on Instagram @budsonthemove_ \n​​Disclaimer \n​​💚 Buds on the Move is a community walking club for adults 21+. This is a pay-as-you-wish experience that helps support future community programming. Consumption is always optional\, respectful\, and mindful.
URL:https://budsonthemove.com/event/brooklyn-promenade-sunset-walk/
LOCATION:Kaya Bliss\, 64 Henry St\, Brooklyn\, NY\, 11201\, United States
ATTACH;FMTTYPE=image/png:https://budsonthemove.com/wp-content/uploads/2026/03/BUDS_WALKS_H1_2026_20_16x9.png
ORGANIZER;CN="Buds On The Move":MAILTO:budsonthemove0@gmail.com
END:VEVENT
END:VCALENDAR