BEGIN:VCALENDAR
VERSION:2.0
PRODID:-//BudsOnTheMove - ECPv6.15.17.1//NONSGML v1.0//EN
CALSCALE:GREGORIAN
METHOD:PUBLISH
X-WR-CALNAME:BudsOnTheMove
X-ORIGINAL-URL:https://budsonthemove.com
X-WR-CALDESC:Events for BudsOnTheMove
REFRESH-INTERVAL;VALUE=DURATION:PT1H
X-Robots-Tag:noindex
X-PUBLISHED-TTL:PT1H
BEGIN:VTIMEZONE
TZID:America/New_York
BEGIN:DAYLIGHT
TZOFFSETFROM:-0500
TZOFFSETTO:-0400
TZNAME:EDT
DTSTART:20250309T070000
END:DAYLIGHT
BEGIN:STANDARD
TZOFFSETFROM:-0400
TZOFFSETTO:-0500
TZNAME:EST
DTSTART:20251102T060000
END:STANDARD
BEGIN:DAYLIGHT
TZOFFSETFROM:-0500
TZOFFSETTO:-0400
TZNAME:EDT
DTSTART:20260308T070000
END:DAYLIGHT
BEGIN:STANDARD
TZOFFSETFROM:-0400
TZOFFSETTO:-0500
TZNAME:EST
DTSTART:20261101T060000
END:STANDARD
BEGIN:DAYLIGHT
TZOFFSETFROM:-0500
TZOFFSETTO:-0400
TZNAME:EDT
DTSTART:20270314T070000
END:DAYLIGHT
BEGIN:STANDARD
TZOFFSETFROM:-0400
TZOFFSETTO:-0500
TZNAME:EST
DTSTART:20271107T060000
END:STANDARD
END:VTIMEZONE
BEGIN:VEVENT
DTSTART;TZID=America/New_York:20260326T180000
DTEND;TZID=America/New_York:20260326T200000
DTSTAMP:20260419T222449
CREATED:20260323T191656Z
LAST-MODIFIED:20260323T192913Z
UID:908-1774548000-1774555200@budsonthemove.com
SUMMARY:Flatiron Spring Walk
DESCRIPTION:Register on LUMA\n \nWe’re keeping things flexible\, flowy\, and very on-brand for Buds on the Move 🌿✨ \n​This walk was originally planned as our Chelsea Art Gallery Walk with The Alchemy\, but due to a few behind-the-scenes logistics\, we’re pivoting the plan (as all great creatives do). Instead of Chelsea\, we’re switching it up and starting from The Alchemy’s brand new Flatiron location\, making this our very first walk from their new home. \n​From there\, we’ll take a mindful\, elevated stroll through some of Manhattan’s most charming green pockets\, heading toward Madison Square Park\, wandering past Gramercy\, and looping our way back. Expect hints of early spring magic as flowers begin to bud\, trees start to wake up\, and the city slowly stretches into a new season. \n​This is one of those walks where we lean into the shift\, new route\, new location\, same beautiful intention: to move together\, notice the little things\, and enjoy a sublime spring evening with the buds. \n​Walk Route: https://www.alltrails.com/explore/legacy-map/map-march-23-2026-81a8aea \n​Walker Deals \n\nThe Alchemy – event-day love for walkers\nVLSNY – product samples and discounts\n\n​The BOTM Flow \n​6:00 PM — Meet + Mingle at The Alchemy (Flatiron)\nCheck in\, warm up\, and settle into the vibes \n​6:30 PM — Flatiron Walk \n​Slow strolls\, take in early glimpses of spring in the parks\, enjoy company of other buds \n​7:45 PM — Chill + Shop back at The Alchemy\nWind down\, connect\, and thaw out together at The Alchemy \n​​What to Bring \n​​ • Warm layers (style encouraged 😌)\n• Comfy walking shoes\n• Water\n• An open mind for spring magic \n​​Level \n​​Easy | 1.7 miles | 60 mins \n​​Questions? \n​​DM us anytime on Instagram @budsonthemove_ \n​​Disclaimer \n​​💚 Buds on the Move is a community walking club for adults 21+. This is a pay-as-you-wish experience that helps support future community programming. Consumption is always optional\, respectful\, and mindful.
URL:https://budsonthemove.com/event/flatiron-spring-walk/
LOCATION:The Alchemy – Flatiron\, 40 E 21st St\, New York\, NY\, 10010\, United States
ATTACH;FMTTYPE=image/png:https://budsonthemove.com/wp-content/uploads/2026/03/BUDS_WALKS_H1_2026_17_16x9.png
ORGANIZER;CN="Buds On The Move":MAILTO:budsonthemove0@gmail.com
END:VEVENT
END:VCALENDAR